BEGIN:VCALENDAR
VERSION:2.0
PRODID:-//CANCER SUPPORT FRANCE - LANGUEDOC REGION - ECPv6.15.20//NONSGML v1.0//EN
CALSCALE:GREGORIAN
METHOD:PUBLISH
X-WR-CALNAME:CANCER SUPPORT FRANCE - LANGUEDOC REGION
X-ORIGINAL-URL:https://csflanguedoc.com
X-WR-CALDESC:Events for CANCER SUPPORT FRANCE - LANGUEDOC REGION
REFRESH-INTERVAL;VALUE=DURATION:PT1H
X-Robots-Tag:noindex
X-PUBLISHED-TTL:PT1H
BEGIN:VTIMEZONE
TZID:Europe/Paris
BEGIN:DAYLIGHT
TZOFFSETFROM:+0100
TZOFFSETTO:+0200
TZNAME:CEST
DTSTART:20250330T010000
END:DAYLIGHT
BEGIN:STANDARD
TZOFFSETFROM:+0200
TZOFFSETTO:+0100
TZNAME:CET
DTSTART:20251026T010000
END:STANDARD
BEGIN:DAYLIGHT
TZOFFSETFROM:+0100
TZOFFSETTO:+0200
TZNAME:CEST
DTSTART:20260329T010000
END:DAYLIGHT
BEGIN:STANDARD
TZOFFSETFROM:+0200
TZOFFSETTO:+0100
TZNAME:CET
DTSTART:20261025T010000
END:STANDARD
BEGIN:DAYLIGHT
TZOFFSETFROM:+0100
TZOFFSETTO:+0200
TZNAME:CEST
DTSTART:20270328T010000
END:DAYLIGHT
BEGIN:STANDARD
TZOFFSETFROM:+0200
TZOFFSETTO:+0100
TZNAME:CET
DTSTART:20271031T010000
END:STANDARD
END:VTIMEZONE
BEGIN:VEVENT
DTSTART;TZID=Europe/Paris:20260421T103000
DTEND;TZID=Europe/Paris:20260421T123000
DTSTAMP:20260421T164243
CREATED:20260314T080353Z
LAST-MODIFIED:20260314T080353Z
UID:5810-1776767400-1776774600@csflanguedoc.com
SUMMARY:Support Group
DESCRIPTION:Support for the Supporters \nEvery other Tuesday at 10.30am in Roujan\, we run a group for anyone who has supported or is supporting someone with cancer — no matter if it is recent or in the past. It’s straightforward\, honest\, and created in mind for those  who’ve a lot to carry and need to offload for themselves. \nThink of it as a place to put things down for an hour or two. A safe space where you don’t have to explain the backstory. You show up when you can. No fuss\, no pressure. \nWhat this group offers: \n\nreal connection instead of going it alone in France\npractical ways to cope\, shared by people who’ve been there\na sense of community that makes things feel lighter\nspace to regain a bit more confidence and control\n\nIf you’re curious or unsure\, just drop a line to spprt.csflanguedoc@gmail.com and we’ll talk it through. \nSessions are confidential and professionally facilitated. \nAs this is provided by Cancer Support France-Languedoc\, donations help with the professional costs but are never a barrier. \nNo judgment. Just solid support.
URL:https://csflanguedoc.com/event/support-group-7/
END:VEVENT
END:VCALENDAR