BEGIN:VCALENDAR
VERSION:2.0
PRODID:-//CANCER SUPPORT FRANCE - LANGUEDOC REGION - ECPv6.15.20//NONSGML v1.0//EN
CALSCALE:GREGORIAN
METHOD:PUBLISH
X-ORIGINAL-URL:https://csflanguedoc.com
X-WR-CALDESC:Events for CANCER SUPPORT FRANCE - LANGUEDOC REGION
REFRESH-INTERVAL;VALUE=DURATION:PT1H
X-Robots-Tag:noindex
X-PUBLISHED-TTL:PT1H
BEGIN:VTIMEZONE
TZID:Europe/Paris
BEGIN:DAYLIGHT
TZOFFSETFROM:+0100
TZOFFSETTO:+0200
TZNAME:CEST
DTSTART:20220327T010000
END:DAYLIGHT
BEGIN:STANDARD
TZOFFSETFROM:+0200
TZOFFSETTO:+0100
TZNAME:CET
DTSTART:20221030T010000
END:STANDARD
BEGIN:DAYLIGHT
TZOFFSETFROM:+0100
TZOFFSETTO:+0200
TZNAME:CEST
DTSTART:20230326T010000
END:DAYLIGHT
BEGIN:STANDARD
TZOFFSETFROM:+0200
TZOFFSETTO:+0100
TZNAME:CET
DTSTART:20231029T010000
END:STANDARD
BEGIN:DAYLIGHT
TZOFFSETFROM:+0100
TZOFFSETTO:+0200
TZNAME:CEST
DTSTART:20240331T010000
END:DAYLIGHT
BEGIN:STANDARD
TZOFFSETFROM:+0200
TZOFFSETTO:+0100
TZNAME:CET
DTSTART:20241027T010000
END:STANDARD
END:VTIMEZONE
BEGIN:VEVENT
DTSTART;TZID=Europe/Paris:20231125T100000
DTEND;TZID=Europe/Paris:20231125T180000
DTSTAMP:20260421T150419
CREATED:20231114T184445Z
LAST-MODIFIED:20231114T184445Z
UID:4620-1700906400-1700935200@csflanguedoc.com
SUMMARY:Cracker Fair
DESCRIPTION:CSF-Languedoc will be at the Cracker Fair this year\, as usual. Please drop by! Our sumptuous Tombola prizes\, tantalisingly presented\, will include food\, drink\, “objets” and a host of vouchers for local restaurants\, shops and treatments … and much\, much more! For our younger visitors there is a Lucky Dip tub brimming with exciting gifts. See you there\, the more\, the merrier! 
URL:https://csflanguedoc.com/event/cracker-fair/
LOCATION:ABBAYE DE VALMAGNE\, Valmagne Sainte-Maria's Abbey\, Villeveyrac\, 34560\, France
CATEGORIES:Cracker Fair
ATTACH;FMTTYPE=image/png:https://csflanguedoc.com/wp-content/uploads/2023/11/Cracker-Fair-2023.png
END:VEVENT
BEGIN:VEVENT
DTSTART;TZID=Europe/Paris:20231126T100000
DTEND;TZID=Europe/Paris:20231126T180000
DTSTAMP:20260421T150419
CREATED:20231114T184727Z
LAST-MODIFIED:20231114T184727Z
UID:4623-1700992800-1701021600@csflanguedoc.com
SUMMARY:Cracker Fair
DESCRIPTION:CSF-Languedoc will be at the Cracker Fair this year\, as usual. Please drop by! Our sumptuous Tombola prizes\, tantalisingly presented\, will include food\, drink\, “objets” and a host of vouchers for local restaurants\, shops and treatments … and much\, much more! For our younger visitors there is a Lucky Dip tub brimming with exciting gifts. See you there\, the more\, the merrier! 
URL:https://csflanguedoc.com/event/cracker-fair-2/
LOCATION:ABBAYE DE VALMAGNE\, Valmagne Sainte-Maria's Abbey\, Villeveyrac\, 34560\, France
CATEGORIES:Cracker Fair
ATTACH;FMTTYPE=image/png:https://csflanguedoc.com/wp-content/uploads/2023/11/Cracker-Fair-2023.png
END:VEVENT
END:VCALENDAR